BEGIN:VCALENDAR
VERSION:2.0
PRODID:-//wp-events-plugin.com//7.2.3.1//EN
TZID:Europe/Oslo
X-WR-TIMEZONE:Europe/Oslo
BEGIN:VEVENT
UID:1-18@designliteracy.net
DTSTART;TZID=Europe/Oslo:20211207T190000
DTEND;TZID=Europe/Oslo:20211207T200000
DTSTAMP:20231117T120305Z
URL:https://designliteracy.net/activities/gloria-gomez/
SUMMARY:Engage with Gloria Gomez | Event Archive | 15th Design Literacy Int
 ernational Network event
DESCRIPTION:Gloria Gomez will introduce the Bridging Design Prototypes meth
 od which aims to support those who would like to deliver a human cantered 
 design approach. She illustrate the method using teacher and children part
 icipation in the paper titled Bridging Design Prototypes & Autonomous Desi
 gn. \nIn order for the people to be able to use these principles they and 
 those who they aim to be involved in the above processes will need to be h
 ave the skills to participate. Thus\, these skills should for be part of t
 he general design literacy skills.
ATTACH;FMTTYPE=image/jpeg:https://designliteracy.net/wp-content/uploads/20
 21/07/DLIN_Talk_15_Gomez_Flyer.jpg
CATEGORIES:Online Activity,Online Zoom Activity
END:VEVENT
BEGIN:VTIMEZONE
TZID:Europe/Oslo
X-LIC-LOCATION:Europe/Oslo
BEGIN:STANDARD
DTSTART:20211031T020000
TZOFFSETFROM:+0200
TZOFFSETTO:+0100
TZNAME:CET
END:STANDARD
END:VTIMEZONE
END:VCALENDAR