BEGIN:VCALENDAR
VERSION:2.0
PRODID:-//wp-events-plugin.com//7.2.3.1//EN
TZID:Europe/Oslo
X-WR-TIMEZONE:Europe/Oslo
BEGIN:VEVENT
UID:1-1@designliteracy.net
DTSTART;TZID=Europe/Oslo:20200922T130000
DTEND;TZID=Europe/Oslo:20200922T153000
DTSTAMP:20210201T191122Z
URL:https://designliteracy.net/activities/articulation-of-alternate-future
 s-online-symposium/
SUMMARY:Articulation of Alternate Futures: Online Symposium | Event Archive
DESCRIPTION:The ‘Articulation of Alternate Futures’ Open Online Symposi
 um has taken place on 22 September 2020\, Tuesday. The event was free of c
 harge. To find out about more the 2020 ‘Articulation of Alternate Future
 s’ Open Online Symposium\, please email us at lxd2021@learnxdesign.net
ATTACH;FMTTYPE=image/jpeg:https://designliteracy.net/wp-content/uploads/20
 20/09/2020.OpenSymposium.LxD_.SQv6_.png
CATEGORIES:Online Zoom Activity,Online Activity
END:VEVENT
BEGIN:VTIMEZONE
TZID:Europe/Oslo
X-LIC-LOCATION:Europe/Oslo
BEGIN:DAYLIGHT
DTSTART:20200329T030000
TZOFFSETFROM:+0100
TZOFFSETTO:+0200
TZNAME:CEST
END:DAYLIGHT
END:VTIMEZONE
END:VCALENDAR